BEGIN:VCALENDAR
VERSION:2.0
PRODID:-//Date iCal//NONSGML kigkonsult.se iCalcreator 2.20.2//
METHOD:PUBLISH
BEGIN:VTIMEZONE
TZID:America/Chicago
BEGIN:STANDARD
DTSTART:20201101T020000
TZOFFSETFROM:-0500
TZOFFSETTO:-0600
RDATE:20211107T020000
TZNAME:CST
END:STANDARD
BEGIN:DAYLIGHT
DTSTART:20210314T020000
TZOFFSETFROM:-0600
TZOFFSETTO:-0500
TZNAME:CDT
END:DAYLIGHT
END:VTIMEZONE
BEGIN:VEVENT
UID:calendar.282841.event_calendar_date.0@hhs.texas.gov
DTSTAMP:20210504T045342Z
CREATED:20210409T191100Z
DESCRIPTION:Promotor(a) or Community Health Worker (CHW) Training and Certi
 fication Advisory Committee Agenda\n          \n\n  \n\n    \n  \n\n    Ap
 ril 30\, 2021 - 10:00am  \n  \n    Location:
DTSTART;TZID=America/Chicago:20210430T100000
DTEND;TZID=America/Chicago:20210430T100000
LAST-MODIFIED:20210409T194106Z
SUMMARY:Promotor(a) or Community Health Worker (CHW) Training and Certifica
 tion Advisory Committee Agenda
URL;TYPE=URI:https://hhs.texas.gov/about-hhs/communications-events/meetings
 -events/2021/04/30/promotora-or-community-health-worker-chw-training-certi
 fication-advisory-committee-agenda
END:VEVENT
END:VCALENDAR
